BEGIN:VCALENDAR
VERSION:2.0
PRODID:-//Die Spandauer Freiwilligenagentur - ECPv6.15.16//NONSGML v1.0//EN
CALSCALE:GREGORIAN
METHOD:PUBLISH
X-WR-CALNAME:Die Spandauer Freiwilligenagentur
X-ORIGINAL-URL:https://die-spandauer.de
X-WR-CALDESC:Veranstaltungen für Die Spandauer Freiwilligenagentur
REFRESH-INTERVAL;VALUE=DURATION:PT1H
X-Robots-Tag:noindex
X-PUBLISHED-TTL:PT1H
BEGIN:VTIMEZONE
TZID:Europe/Berlin
BEGIN:DAYLIGHT
TZOFFSETFROM:+0100
TZOFFSETTO:+0200
TZNAME:CEST
DTSTART:20200329T010000
END:DAYLIGHT
BEGIN:STANDARD
TZOFFSETFROM:+0200
TZOFFSETTO:+0100
TZNAME:CET
DTSTART:20201025T010000
END:STANDARD
BEGIN:DAYLIGHT
TZOFFSETFROM:+0100
TZOFFSETTO:+0200
TZNAME:CEST
DTSTART:20210328T010000
END:DAYLIGHT
BEGIN:STANDARD
TZOFFSETFROM:+0200
TZOFFSETTO:+0100
TZNAME:CET
DTSTART:20211031T010000
END:STANDARD
BEGIN:DAYLIGHT
TZOFFSETFROM:+0100
TZOFFSETTO:+0200
TZNAME:CEST
DTSTART:20220327T010000
END:DAYLIGHT
BEGIN:STANDARD
TZOFFSETFROM:+0200
TZOFFSETTO:+0100
TZNAME:CET
DTSTART:20221030T010000
END:STANDARD
END:VTIMEZONE
BEGIN:VEVENT
DTSTART;TZID=Europe/Berlin:20211124T150000
DTEND;TZID=Europe/Berlin:20211124T170000
DTSTAMP:20260420T012348
CREATED:20211102T160752Z
LAST-MODIFIED:20211102T160752Z
UID:3429-1637766000-1637773200@die-spandauer.de
SUMMARY:FWA goes Wilhelmstadt
DESCRIPTION:Wir beraten vor Ort zu allem rund um’s Ehrenamt: welches Engagement könnte passen\, was gibt’s alles so\, worauf soll ich im Ehrenamt achten… und hören gerne zu\, was wir an Wünschen und Ideen erfahren dürfen. Wir sind im Stadtteilladen in der Adamstr. 39 (im Tiny-House wird’s zu kalt… ).
URL:https://die-spandauer.de/event/fwa-goes-wilhelmstadt/
END:VEVENT
END:VCALENDAR