BEGIN:VCALENDAR
VERSION:2.0
PRODID:-//Die Spandauer Freiwilligenagentur - ECPv6.15.16//NONSGML v1.0//EN
CALSCALE:GREGORIAN
METHOD:PUBLISH
X-WR-CALNAME:Die Spandauer Freiwilligenagentur
X-ORIGINAL-URL:https://die-spandauer.de
X-WR-CALDESC:Veranstaltungen für Die Spandauer Freiwilligenagentur
REFRESH-INTERVAL;VALUE=DURATION:PT1H
X-Robots-Tag:noindex
X-PUBLISHED-TTL:PT1H
BEGIN:VTIMEZONE
TZID:Europe/Berlin
BEGIN:DAYLIGHT
TZOFFSETFROM:+0100
TZOFFSETTO:+0200
TZNAME:CEST
DTSTART:20200329T010000
END:DAYLIGHT
BEGIN:STANDARD
TZOFFSETFROM:+0200
TZOFFSETTO:+0100
TZNAME:CET
DTSTART:20201025T010000
END:STANDARD
BEGIN:DAYLIGHT
TZOFFSETFROM:+0100
TZOFFSETTO:+0200
TZNAME:CEST
DTSTART:20210328T010000
END:DAYLIGHT
BEGIN:STANDARD
TZOFFSETFROM:+0200
TZOFFSETTO:+0100
TZNAME:CET
DTSTART:20211031T010000
END:STANDARD
BEGIN:DAYLIGHT
TZOFFSETFROM:+0100
TZOFFSETTO:+0200
TZNAME:CEST
DTSTART:20220327T010000
END:DAYLIGHT
BEGIN:STANDARD
TZOFFSETFROM:+0200
TZOFFSETTO:+0100
TZNAME:CET
DTSTART:20221030T010000
END:STANDARD
END:VTIMEZONE
BEGIN:VEVENT
DTSTART;TZID=Europe/Berlin:20211125T100000
DTEND;TZID=Europe/Berlin:20211125T120000
DTSTAMP:20260420T012415
CREATED:20211102T112349Z
LAST-MODIFIED:20211102T161017Z
UID:3426-1637834400-1637841600@die-spandauer.de
SUMMARY:Netzwerk Spandauer Ehrenamt
DESCRIPTION:Wir laden herzlich zu unserem regelmäßig stattfindenden Netzwerk Spandauer Ehrenamt ein.\nDie Einladung und eine detaillierte Tagesordnung wird vor der Veranstaltung per Mail versandt. Das Treffen wird digital über zoom stattfinden.  Kontaktieren Sie uns gerne\, wenn Sie auch dabei sein möchten.
URL:https://die-spandauer.de/event/3426/
END:VEVENT
END:VCALENDAR