BEGIN:VCALENDAR
VERSION:2.0
PRODID:-//Die Spandauer Freiwilligenagentur - ECPv6.15.16//NONSGML v1.0//EN
CALSCALE:GREGORIAN
METHOD:PUBLISH
X-WR-CALNAME:Die Spandauer Freiwilligenagentur
X-ORIGINAL-URL:https://die-spandauer.de
X-WR-CALDESC:Veranstaltungen für Die Spandauer Freiwilligenagentur
REFRESH-INTERVAL;VALUE=DURATION:PT1H
X-Robots-Tag:noindex
X-PUBLISHED-TTL:PT1H
BEGIN:VTIMEZONE
TZID:Europe/Berlin
BEGIN:DAYLIGHT
TZOFFSETFROM:+0100
TZOFFSETTO:+0200
TZNAME:CEST
DTSTART:20230326T010000
END:DAYLIGHT
BEGIN:STANDARD
TZOFFSETFROM:+0200
TZOFFSETTO:+0100
TZNAME:CET
DTSTART:20231029T010000
END:STANDARD
BEGIN:DAYLIGHT
TZOFFSETFROM:+0100
TZOFFSETTO:+0200
TZNAME:CEST
DTSTART:20240331T010000
END:DAYLIGHT
BEGIN:STANDARD
TZOFFSETFROM:+0200
TZOFFSETTO:+0100
TZNAME:CET
DTSTART:20241027T010000
END:STANDARD
BEGIN:DAYLIGHT
TZOFFSETFROM:+0100
TZOFFSETTO:+0200
TZNAME:CEST
DTSTART:20250330T010000
END:DAYLIGHT
BEGIN:STANDARD
TZOFFSETFROM:+0200
TZOFFSETTO:+0100
TZNAME:CET
DTSTART:20251026T010000
END:STANDARD
END:VTIMEZONE
BEGIN:VEVENT
DTSTART;TZID=Europe/Berlin:20240716T160000
DTEND;TZID=Europe/Berlin:20240716T190000
DTSTAMP:20260423T040052
CREATED:20240327T091637Z
LAST-MODIFIED:20240521T142356Z
UID:6470-1721145600-1721156400@die-spandauer.de
SUMMARY:Hof-Fest für Spandauer Ehrenamtliche
DESCRIPTION:Auch in diesem Jahr möchten wir DANKE sagen bei allen Spandauer Ehrenamtlichen und herzlich zu unserem Hof-Fest einladen! In gemütlicher Atmosphäre wollen wir dieses Mal einen sommerlichen Nachmittag miteinander verbringen. \nMehr Infos folgen 🙂
URL:https://die-spandauer.de/event/hof-fest-fuer-spandauer-ehrenamtliche/
LOCATION:Die Spandauer Freiwilligenagentur\, Carl-Schurz-Str. 53\, Berlin\, 13597\, Deutschland
END:VEVENT
END:VCALENDAR