BEGIN:VCALENDAR
VERSION:2.0
PRODID:-//Die Spandauer Freiwilligenagentur - ECPv6.15.16//NONSGML v1.0//EN
CALSCALE:GREGORIAN
METHOD:PUBLISH
X-WR-CALNAME:Die Spandauer Freiwilligenagentur
X-ORIGINAL-URL:https://die-spandauer.de
X-WR-CALDESC:Veranstaltungen für Die Spandauer Freiwilligenagentur
REFRESH-INTERVAL;VALUE=DURATION:PT1H
X-Robots-Tag:noindex
X-PUBLISHED-TTL:PT1H
BEGIN:VTIMEZONE
TZID:Europe/Berlin
BEGIN:DAYLIGHT
TZOFFSETFROM:+0100
TZOFFSETTO:+0200
TZNAME:CEST
DTSTART:20230326T010000
END:DAYLIGHT
BEGIN:STANDARD
TZOFFSETFROM:+0200
TZOFFSETTO:+0100
TZNAME:CET
DTSTART:20231029T010000
END:STANDARD
BEGIN:DAYLIGHT
TZOFFSETFROM:+0100
TZOFFSETTO:+0200
TZNAME:CEST
DTSTART:20240331T010000
END:DAYLIGHT
BEGIN:STANDARD
TZOFFSETFROM:+0200
TZOFFSETTO:+0100
TZNAME:CET
DTSTART:20241027T010000
END:STANDARD
BEGIN:DAYLIGHT
TZOFFSETFROM:+0100
TZOFFSETTO:+0200
TZNAME:CEST
DTSTART:20250330T010000
END:DAYLIGHT
BEGIN:STANDARD
TZOFFSETFROM:+0200
TZOFFSETTO:+0100
TZNAME:CET
DTSTART:20251026T010000
END:STANDARD
END:VTIMEZONE
BEGIN:VEVENT
DTSTART;TZID=Europe/Berlin:20240914T110000
DTEND;TZID=Europe/Berlin:20240914T163000
DTSTAMP:20260423T010843
CREATED:20240717T083224Z
LAST-MODIFIED:20240717T083224Z
UID:6547-1726311600-1726331400@die-spandauer.de
SUMMARY:Soziales\, Gesundes\, Internationales und ENGAGIERTES Spandau 2024
DESCRIPTION:Liebe Mitstreiterinnen und Mitstreiter\, \naus zwei mach EINS! \n„Das Soziale\, Gesunde und Internationale Spandau“ und die „Ehrenamtsbörse“ der Spandauer Freiwilligenagentur machen gemeinsame Sache und erweitern die Veranstaltung mit dem Thema Ehrenamt. \nEinladung und Anmeldung\n„Soziales\, Gesundes\, Internationales und ENGAGIERTES Spandau 2024“\n.\nWann: 14.September 2024 / 11-16:30 Uhr\nWo: Marktplatz in der Altstadt Spandau* \nDer Ablauf\, um mit einem Stand dabei zu sein ist einfach. \nBei den Ständen handelt es sich um handelsübliche Flohmarkstände (Größe 3 × 2 m mit einem gummierten Dach). \nMöchten Sie dabei sein senden Sie bitte entweder dieses 08072024_Anmeldeformular 2024 BA_FWA komplett ausgefüllte Formular oder schreiben eine E-Mail mit den gewünschten Infos an team@die-spandauer.de . \nWichtig hierbei\, dass Sie bitte einen Ansprechpartner angeben\, der für die Buchung zuständig ist. \nDie Frist für die Buchung ist eines oder mehrere Stände ist der 23.08.2024 \nWenn das Anmeldeformular die Freiwilligenagentur erreicht hat\, bekommen Sie eine Bestätigung per E-Mail mit einem Zahlungshinweis für Ihre gewünschte Anzahl von Ständen. \nHierbei ist wie jedes Jahr zu bedenken\, das die aufgerufene Standmiete lediglich dazu dient\, anfallende Kosten zu decken (Stand Auf-und Abbau\, Reinigung\, Rettungswagen etc.) \nWir bitten alle inständig um fristgerechte Überweisung der Standmieten\, da auch wir im Nachhinein anfallende Kosten fristgerecht begleichen muss. \nSchlussendlich erhalten Sie gut 2 Wochen vor Veranstaltung von eine Mail mit letzten Infos\, bzw. einem Standplan und einer Liste mit allen Teilnehmer*innen und Ihren Standnummern\, um am Veranstaltungstag den richtigen Platz zu finden. \nDas Team der Spandauer Freiwilligenagentur und das Ehrenamtsbüro freuen sich auf nette Gespräche\, Wiedersehen und alle Engagierte. \nHintergrund \nAn rund 60 Ständen und Aktionsflächen können sich Spandauerinnen und Spandauer sowie Gäste von nah und fern darüber informieren\, welche vielfältigen Angebote Spandau in den Bereichen Soziales\, Gesundheit\, Integration und Inklusion zu bieten hat. \nIn diesem Jahr kommt durch die Spandauer Freiwilligenagentur ein weiterer Fokus mit dem Thema Ehrenamt hinzu. Hierzu wird vor Ort informiert\, gesprochen\, erlebt und im besten Fall vermittelt.
URL:https://die-spandauer.de/event/soziales-gesundes-internationales-und-engagiertes-spandau-2024/
LOCATION:Marktplatz Spandau
END:VEVENT
END:VCALENDAR