BEGIN:VCALENDAR
VERSION:2.0
PRODID:-//Die Spandauer Freiwilligenagentur - ECPv6.15.16//NONSGML v1.0//EN
CALSCALE:GREGORIAN
METHOD:PUBLISH
X-WR-CALNAME:Die Spandauer Freiwilligenagentur
X-ORIGINAL-URL:https://die-spandauer.de
X-WR-CALDESC:Veranstaltungen für Die Spandauer Freiwilligenagentur
REFRESH-INTERVAL;VALUE=DURATION:PT1H
X-Robots-Tag:noindex
X-PUBLISHED-TTL:PT1H
BEGIN:VTIMEZONE
TZID:Europe/Berlin
BEGIN:DAYLIGHT
TZOFFSETFROM:+0100
TZOFFSETTO:+0200
TZNAME:CEST
DTSTART:20240331T010000
END:DAYLIGHT
BEGIN:STANDARD
TZOFFSETFROM:+0200
TZOFFSETTO:+0100
TZNAME:CET
DTSTART:20241027T010000
END:STANDARD
BEGIN:DAYLIGHT
TZOFFSETFROM:+0100
TZOFFSETTO:+0200
TZNAME:CEST
DTSTART:20250330T010000
END:DAYLIGHT
BEGIN:STANDARD
TZOFFSETFROM:+0200
TZOFFSETTO:+0100
TZNAME:CET
DTSTART:20251026T010000
END:STANDARD
BEGIN:DAYLIGHT
TZOFFSETFROM:+0100
TZOFFSETTO:+0200
TZNAME:CEST
DTSTART:20260329T010000
END:DAYLIGHT
BEGIN:STANDARD
TZOFFSETFROM:+0200
TZOFFSETTO:+0100
TZNAME:CET
DTSTART:20261025T010000
END:STANDARD
END:VTIMEZONE
BEGIN:VEVENT
DTSTART;TZID=Europe/Berlin:20250212T173000
DTEND;TZID=Europe/Berlin:20250212T193000
DTSTAMP:20260422T173449
CREATED:20241216T144950Z
LAST-MODIFIED:20250130T110650Z
UID:7079-1739381400-1739388600@die-spandauer.de
SUMMARY:Kochstudio
DESCRIPTION:Liebe Freiwillige\, \nwir möchten uns für eure großartige Unterstützung und euren unermüdlichen Einsatz bedanken. Ohne euch wären viele Projekte nicht möglich gewesen. Als kleines Dankeschön gibt´s in unseren Räumen ein gemütliches Abendessen. Jawad wird Gerichte aus seiner afghanischen Heimat zubereiten. Wenn ihr wollt\, könnt ihr auch ein wenig dabei helfen. Dazu laden wir euch herzlich ein.\nBitte meldet euch schnell an\, da die Anzahl der Teilnehmer:innen begrenzt ist! \nEs wird eine gute Gelegenheit sein\, sich auszutauschen\, neue Rezepte zu entdecken und einfach eine schöne Zeit miteinander zu verbringen.\nWir freuen uns auf einen schönen Abend mit euch! \nHerzliche Grüße vom Team der\nSpandauer Freiwilligenagentur \nFoto: Patricia Kalisch\, www.patriciakalisch.de
URL:https://die-spandauer.de/event/kochstudio/
LOCATION:Die Spandauer Freiwilligenagentur\, Carl-Schurz-Str. 53\, Berlin\, 13597\, Deutschland
CATEGORIES:Ehrenamtliche,Koch-Studio
END:VEVENT
END:VCALENDAR