BEGIN:VCALENDAR
VERSION:2.0
PRODID:-//Die Spandauer Freiwilligenagentur - ECPv6.15.16//NONSGML v1.0//EN
CALSCALE:GREGORIAN
METHOD:PUBLISH
X-WR-CALNAME:Die Spandauer Freiwilligenagentur
X-ORIGINAL-URL:https://die-spandauer.de
X-WR-CALDESC:Veranstaltungen für Die Spandauer Freiwilligenagentur
REFRESH-INTERVAL;VALUE=DURATION:PT1H
X-Robots-Tag:noindex
X-PUBLISHED-TTL:PT1H
BEGIN:VTIMEZONE
TZID:Europe/Berlin
BEGIN:DAYLIGHT
TZOFFSETFROM:+0100
TZOFFSETTO:+0200
TZNAME:CEST
DTSTART:20240331T010000
END:DAYLIGHT
BEGIN:STANDARD
TZOFFSETFROM:+0200
TZOFFSETTO:+0100
TZNAME:CET
DTSTART:20241027T010000
END:STANDARD
BEGIN:DAYLIGHT
TZOFFSETFROM:+0100
TZOFFSETTO:+0200
TZNAME:CEST
DTSTART:20250330T010000
END:DAYLIGHT
BEGIN:STANDARD
TZOFFSETFROM:+0200
TZOFFSETTO:+0100
TZNAME:CET
DTSTART:20251026T010000
END:STANDARD
BEGIN:DAYLIGHT
TZOFFSETFROM:+0100
TZOFFSETTO:+0200
TZNAME:CEST
DTSTART:20260329T010000
END:DAYLIGHT
BEGIN:STANDARD
TZOFFSETFROM:+0200
TZOFFSETTO:+0100
TZNAME:CET
DTSTART:20261025T010000
END:STANDARD
END:VTIMEZONE
BEGIN:VEVENT
DTSTART;TZID=Europe/Berlin:20250403T150000
DTEND;TZID=Europe/Berlin:20250403T180000
DTSTAMP:20260422T145440
CREATED:20240215T131139Z
LAST-MODIFIED:20250320T093400Z
UID:6419-1743692400-1743703200@die-spandauer.de
SUMMARY:(AUSGEBUCHT) Kostenlose Workshopreihe: Projektmanagement in Migrantenorganisationen - Modul III "Wie funktioniert ein Projekt? Projektdurchführung und lfd. Dokumentation"
DESCRIPTION: Wann? 03. April\, 15:00-18:00 Uhr \n Wo? Spandauer Freiwilligenagentur\, Carl-Schurz-Str. 53\, 13597 Berlin\n Für wen? Lokale Initiativen und Organisationen von Menschen mit Migrationsgeschichte in Spandau (MO´s) \n Was erwartet dich? Ein kostenloser Workshop\, der Projektmanagement und öffentliche Projektförderung einfach erklärt. \n Inhalt Modul III:  \n\nDas Projekt in der Durchführung- Instrumente und Prozesse der Umsetzung und Steuerung von Projekte\nMittelabruf und Verausgabung nach Kostenarten\nDokumentation und Berichtswesen im Projekt\n\nRealisierung des Finanzplanes und Controlling (Personalkosten\, Auftragsvergabe\, Honorare\, Kostenschlüssel für Sachkosten\, Miete usw.)\nInhaltliche Dokumentation von Projekten\n\n\n\nweitere Module mit separater Anmeldung: \n\nModul I:Einführung in das Projektmanagement (20.03.2025\, 15:00-18:00 Uhr)\nModul II: Projektantragsmanagement für MO & Fördertöpfe und –programme (27.03.2025\, 15:00-18:00 Uhr)\nModul IV: Projektmanagement in MO: Verwendungsnachweis und Abschlussbericht (10.04.2025\, 15:00-18:00 Uhr)\n\n  \n Referenten: Holger Förster (Leitung VIA Servicestelle für MO\, IKMO) und Fuat Şengül (VIA Referent) \n Workshops bauen aufeinander auf: Wir empfehlen deshalb an allen Tagen Zeit zu nehmen. \n Jetzt anmelden! Die Plätze sind begrenzt \n  \nGemeinsam machen wir Projektmanagement verständlich und erfolgreich! 
URL:https://die-spandauer.de/event/kostenlose-workshopreihe-projektmanagement-fuer-mos-modul-iii-wie-funktioniert-ein-projekt-projektdurchfuehrung-und-lfd-dokumentation/
LOCATION:Die Spandauer Freiwilligenagentur\, Carl-Schurz-Str. 53\, Berlin\, 13597\, Deutschland
CATEGORIES:Gemeinnützige
END:VEVENT
END:VCALENDAR