BEGIN:VCALENDAR
VERSION:2.0
PRODID:-//Die Spandauer Freiwilligenagentur - ECPv6.15.16//NONSGML v1.0//EN
CALSCALE:GREGORIAN
METHOD:PUBLISH
X-WR-CALNAME:Die Spandauer Freiwilligenagentur
X-ORIGINAL-URL:https://die-spandauer.de
X-WR-CALDESC:Veranstaltungen für Die Spandauer Freiwilligenagentur
REFRESH-INTERVAL;VALUE=DURATION:PT1H
X-Robots-Tag:noindex
X-PUBLISHED-TTL:PT1H
BEGIN:VTIMEZONE
TZID:Europe/Berlin
BEGIN:DAYLIGHT
TZOFFSETFROM:+0100
TZOFFSETTO:+0200
TZNAME:CEST
DTSTART:20240331T010000
END:DAYLIGHT
BEGIN:STANDARD
TZOFFSETFROM:+0200
TZOFFSETTO:+0100
TZNAME:CET
DTSTART:20241027T010000
END:STANDARD
BEGIN:DAYLIGHT
TZOFFSETFROM:+0100
TZOFFSETTO:+0200
TZNAME:CEST
DTSTART:20250330T010000
END:DAYLIGHT
BEGIN:STANDARD
TZOFFSETFROM:+0200
TZOFFSETTO:+0100
TZNAME:CET
DTSTART:20251026T010000
END:STANDARD
BEGIN:DAYLIGHT
TZOFFSETFROM:+0100
TZOFFSETTO:+0200
TZNAME:CEST
DTSTART:20260329T010000
END:DAYLIGHT
BEGIN:STANDARD
TZOFFSETFROM:+0200
TZOFFSETTO:+0100
TZNAME:CET
DTSTART:20261025T010000
END:STANDARD
END:VTIMEZONE
BEGIN:VEVENT
DTSTART;TZID=Europe/Berlin:20250624T160000
DTEND;TZID=Europe/Berlin:20250624T183000
DTSTAMP:20260422T115121
CREATED:20250226T143453Z
LAST-MODIFIED:20250623T081250Z
UID:7147-1750780800-1750789800@die-spandauer.de
SUMMARY:Engagement Spaziergang am 24. Juni in Heerstraße Nord / Staaken 🌟
DESCRIPTION:Liebe Spandauer:innen\, \nseid ihr auf der Suche nach einem Ehrenamt und möchtet direkt gemeinnützige Organisationen kennenlernen? Dann kommt zu unserem Engagement Spaziergang am 24. Juni ab 16:00 Uhr in Heerstr. Nord/Staaken!  \nIhr habt die Möglichkeit\, Organisationen aus unterschiedlichen den Bereichen zu besuchen und euch in entspannter Atmosphäre über eine Reihe von Engagement-Möglichkeiten zu informieren. \nMeldet euch jetzt an und entdeckt\, wie ihr euch in unserer Gemeinschaft einbringen könnt. Wir freuen uns auf euch! \nWir starten um 16 Uhr mit der Begrüßung im Quartiersmanagement Büro\, Blasewitzer Ring 32! 🙂 \n—– \nDie Veranstaltung wird durchgeführt von der Spandauer Freiwilligenagentur in Kooperation mit der Gemeinwesenverein Heerstraße Nord e.V. / Quartiersmanagement Heerstraße. \n 
URL:https://die-spandauer.de/event/engagement-spaziergang-am-24-juni-in-heerstrasse-nord-staaken-%f0%9f%8c%9f/
CATEGORIES:Ehrenamtliche
END:VEVENT
END:VCALENDAR