BEGIN:VCALENDAR
VERSION:2.0
PRODID:-//Die Spandauer Freiwilligenagentur - ECPv6.15.16//NONSGML v1.0//EN
CALSCALE:GREGORIAN
METHOD:PUBLISH
X-ORIGINAL-URL:https://die-spandauer.de
X-WR-CALDESC:Veranstaltungen für Die Spandauer Freiwilligenagentur
REFRESH-INTERVAL;VALUE=DURATION:PT1H
X-Robots-Tag:noindex
X-PUBLISHED-TTL:PT1H
BEGIN:VTIMEZONE
TZID:Europe/Berlin
BEGIN:DAYLIGHT
TZOFFSETFROM:+0100
TZOFFSETTO:+0200
TZNAME:CEST
DTSTART:20210328T010000
END:DAYLIGHT
BEGIN:STANDARD
TZOFFSETFROM:+0200
TZOFFSETTO:+0100
TZNAME:CET
DTSTART:20211031T010000
END:STANDARD
BEGIN:DAYLIGHT
TZOFFSETFROM:+0100
TZOFFSETTO:+0200
TZNAME:CEST
DTSTART:20220327T010000
END:DAYLIGHT
BEGIN:STANDARD
TZOFFSETFROM:+0200
TZOFFSETTO:+0100
TZNAME:CET
DTSTART:20221030T010000
END:STANDARD
BEGIN:DAYLIGHT
TZOFFSETFROM:+0100
TZOFFSETTO:+0200
TZNAME:CEST
DTSTART:20230326T010000
END:DAYLIGHT
BEGIN:STANDARD
TZOFFSETFROM:+0200
TZOFFSETTO:+0100
TZNAME:CET
DTSTART:20231029T010000
END:STANDARD
END:VTIMEZONE
BEGIN:VEVENT
DTSTART;TZID=Europe/Berlin:20220120T100000
DTEND;TZID=Europe/Berlin:20220120T120000
DTSTAMP:20260419T203313
CREATED:20211203T132106Z
LAST-MODIFIED:20220117T225056Z
UID:3579-1642672800-1642680000@die-spandauer.de
SUMMARY:Netzwerk Spandauer Ehrenamt
DESCRIPTION:Wir laden herzlich zu unserem regelmäßig stattfindenden Netzwerk Spandauer Ehrenamt ein.\nDie Einladung und eine detaillierte Tagesordnung wird vor der Veranstaltung per Mail versandt. Das Treffen wird digital über zoom stattfinden.  Kontaktieren Sie uns gerne\, wenn Sie auch dabei sein möchten.
URL:https://die-spandauer.de/event/netzwerk-spandauer-ehrenamt-3/
CATEGORIES:Ehrenamtsbörse 2022
END:VEVENT
BEGIN:VEVENT
DTSTART;TZID=Europe/Berlin:20220126T150000
DTEND;TZID=Europe/Berlin:20220126T170000
DTSTAMP:20260419T203313
CREATED:20220112T151828Z
LAST-MODIFIED:20220208T130023Z
UID:3725-1643209200-1643216400@die-spandauer.de
SUMMARY:FWA goes Wilhelmstadt
DESCRIPTION:Wir beraten vor Ort zu allem rund um’s Ehrenamt: welches Engagement könnte passen\, was gibt’s alles so\, worauf soll ich im Ehrenamt achten… und hören gerne zu\, was wir an Wünschen und Ideen erfahren dürfen. Wir sind im Stadtteilladen in der Adamstr. 39  Vorab-Anmeldung wäre prima!
URL:https://die-spandauer.de/event/fwa-goea-wilhelmstadt/
CATEGORIES:Ehrenamtliche
END:VEVENT
END:VCALENDAR