BEGIN:VCALENDAR
VERSION:2.0
PRODID:-//Die Spandauer Freiwilligenagentur - ECPv6.15.16//NONSGML v1.0//EN
CALSCALE:GREGORIAN
METHOD:PUBLISH
X-WR-CALNAME:Die Spandauer Freiwilligenagentur
X-ORIGINAL-URL:https://die-spandauer.de
X-WR-CALDESC:Veranstaltungen für Die Spandauer Freiwilligenagentur
REFRESH-INTERVAL;VALUE=DURATION:PT1H
X-Robots-Tag:noindex
X-PUBLISHED-TTL:PT1H
BEGIN:VTIMEZONE
TZID:UTC
BEGIN:STANDARD
TZOFFSETFROM:+0000
TZOFFSETTO:+0000
TZNAME:UTC
DTSTART:20210101T000000
END:STANDARD
END:VTIMEZONE
BEGIN:VTIMEZONE
TZID:Europe/Berlin
BEGIN:DAYLIGHT
TZOFFSETFROM:+0100
TZOFFSETTO:+0200
TZNAME:CEST
DTSTART:20210328T010000
END:DAYLIGHT
BEGIN:STANDARD
TZOFFSETFROM:+0200
TZOFFSETTO:+0100
TZNAME:CET
DTSTART:20211031T010000
END:STANDARD
BEGIN:DAYLIGHT
TZOFFSETFROM:+0100
TZOFFSETTO:+0200
TZNAME:CEST
DTSTART:20220327T010000
END:DAYLIGHT
BEGIN:STANDARD
TZOFFSETFROM:+0200
TZOFFSETTO:+0100
TZNAME:CET
DTSTART:20221030T010000
END:STANDARD
BEGIN:DAYLIGHT
TZOFFSETFROM:+0100
TZOFFSETTO:+0200
TZNAME:CEST
DTSTART:20230326T010000
END:DAYLIGHT
BEGIN:STANDARD
TZOFFSETFROM:+0200
TZOFFSETTO:+0100
TZNAME:CET
DTSTART:20231029T010000
END:STANDARD
END:VTIMEZONE
BEGIN:VEVENT
DTSTART;TZID=UTC:20220317T143000
DTEND;TZID=UTC:20220317T160000
DTSTAMP:20260419T171901
CREATED:20220310T091448Z
LAST-MODIFIED:20220310T091448Z
UID:4399-1647527400-1647532800@die-spandauer.de
SUMMARY:Austausch-Treffen via Zoom zur Lage der geflüchteten Menschen aus der Ukraine
DESCRIPTION:2. Austauschtreffen: Sammeln von Bedarfen und Angeboten an/von Ehrenamt für geflüchtete Menschen aus der Ukraine. Vernetzung und Austausch dazu\, was im Bezirk schon läuft. Bitte anmelden\, link wird dann zugesandt.
URL:https://die-spandauer.de/event/austausch-treffen-via-zoom-zur-lage-der-gefluechteten-menschen-aus-der-ukraine/
CATEGORIES:Gemeinnützige
END:VEVENT
BEGIN:VEVENT
DTSTART;TZID=UTC:20220317T160000
DTEND;TZID=UTC:20220317T180000
DTSTAMP:20260419T171901
CREATED:20220310T092320Z
LAST-MODIFIED:20220310T092320Z
UID:4401-1647532800-1647540000@die-spandauer.de
SUMMARY:Wie weiter? Austausch für Spandauer:innen\, die geflüchtete Ukrainer:innen aufgenommen haben
DESCRIPTION:Austauschtreffen in der Freiwilligenagentur\, Carl-Schurz-Str. 53\, Innenhof.  Gemeinsam Fragen sammeln und im besten Fall schon die ein oder andere Antwort finden… Wir laden Sie und Euch herzlich dazu ein und bieten für euren Austausch einen geschützten Raum.
URL:https://die-spandauer.de/event/wie-weiter-austausch-fuer-spandauerinnen-die-gefluechtete-ukrainerinnen-aufgenommen-haben/
CATEGORIES:Ehrenamtliche
END:VEVENT
BEGIN:VEVENT
DTSTART;TZID=Europe/Berlin:20220319T100000
DTEND;TZID=Europe/Berlin:20220319T170000
DTSTAMP:20260419T171901
CREATED:20220209T092622Z
LAST-MODIFIED:20220209T092857Z
UID:4201-1647684000-1647709200@die-spandauer.de
SUMMARY:Fortbildungen in Kooperation mit der VHS
DESCRIPTION:Es geht los: am 19.03. findet die erste Fortbildung für Ehrenamtliche in Kooperation mit der VHS statt! Die Teilnahme ist für Ehrenamtliche kostenlos\, die Plätze sind begrenzt…. auf geht’s! Thema am 19.03. (10:00 – 17:00\, inkl. Pausen :)): wertschätzend kommunizieren\,– kann man ja nie genug und erst recht nicht im Ehrenamt…Anmeldungen über uns!
URL:https://die-spandauer.de/event/fortbildungen-in-kooperation-mit-der-vhs/
CATEGORIES:Ehrenamtliche,Fortbildungen VHS
END:VEVENT
BEGIN:VEVENT
DTSTART;TZID=UTC:20220324T160000
DTEND;TZID=UTC:20220324T180000
DTSTAMP:20260419T171901
CREATED:20220323T075821Z
LAST-MODIFIED:20220323T075933Z
UID:4422-1648137600-1648144800@die-spandauer.de
SUMMARY:Austausch für Ehrenamtliche für Ukraine-Hilfe
DESCRIPTION:Wir bieten einen offenen Austausch für alle Spandauer Ehrenamtlichen an\, die sich für geflüchtete Menschen aus der Ukraine engagieren / engagieren möchten. Was geht schon\, welche Infos sind aktuell unterwegs\, wo gibt’s Hilfe\, wie könnt ihr euch gut vernetzen? \nWir sind für jedes Thema offen\, steuern selbst die aktuelle Datenbank und unsere Netzwerkkarte bei und freuen uns auf euch! Kommt einfach bei uns vorbei
URL:https://die-spandauer.de/event/austausch-fuer-ehrenamtliche-fuer-ukraine-hilfe/
CATEGORIES:Ehrenamtliche
END:VEVENT
BEGIN:VEVENT
DTSTART;TZID=Europe/Berlin:20220330T120000
DTEND;TZID=Europe/Berlin:20220330T173000
DTSTAMP:20260419T171901
CREATED:20220112T152446Z
LAST-MODIFIED:20220208T124346Z
UID:3728-1648641600-1648661400@die-spandauer.de
SUMMARY:Kommse rin ! Tag der offenen Tür
DESCRIPTION:Liebe Alle\, \nam 30.03 findet ein weiterer Tag der offenen Tür bei uns statt\, wir werden alle dann geltenden Hygiene-Regeln umsetzen und müssen natürlich kurz vorher nochmal checken\, was geht. Aber erstmal wollen wir so planen und freuen uns auf ganz viel Besuch und Neugierde und Fragen und Austausch. Und\, – es gibt auch was Süßes! Vorab-Anmeldung wäre prima.
URL:https://die-spandauer.de/event/kommse-rin-tag-der-offenen-tuer/
CATEGORIES:Ehrenamtliche,Gemeinnützige
END:VEVENT
END:VCALENDAR