BEGIN:VCALENDAR
VERSION:2.0
PRODID:-//Die Spandauer Freiwilligenagentur - ECPv6.15.16//NONSGML v1.0//EN
CALSCALE:GREGORIAN
METHOD:PUBLISH
X-ORIGINAL-URL:https://die-spandauer.de
X-WR-CALDESC:Veranstaltungen für Die Spandauer Freiwilligenagentur
REFRESH-INTERVAL;VALUE=DURATION:PT1H
X-Robots-Tag:noindex
X-PUBLISHED-TTL:PT1H
BEGIN:VTIMEZONE
TZID:Europe/Berlin
BEGIN:DAYLIGHT
TZOFFSETFROM:+0100
TZOFFSETTO:+0200
TZNAME:CEST
DTSTART:20210328T010000
END:DAYLIGHT
BEGIN:STANDARD
TZOFFSETFROM:+0200
TZOFFSETTO:+0100
TZNAME:CET
DTSTART:20211031T010000
END:STANDARD
BEGIN:DAYLIGHT
TZOFFSETFROM:+0100
TZOFFSETTO:+0200
TZNAME:CEST
DTSTART:20220327T010000
END:DAYLIGHT
BEGIN:STANDARD
TZOFFSETFROM:+0200
TZOFFSETTO:+0100
TZNAME:CET
DTSTART:20221030T010000
END:STANDARD
BEGIN:DAYLIGHT
TZOFFSETFROM:+0100
TZOFFSETTO:+0200
TZNAME:CEST
DTSTART:20230326T010000
END:DAYLIGHT
BEGIN:STANDARD
TZOFFSETFROM:+0200
TZOFFSETTO:+0100
TZNAME:CET
DTSTART:20231029T010000
END:STANDARD
END:VTIMEZONE
BEGIN:VTIMEZONE
TZID:UTC
BEGIN:STANDARD
TZOFFSETFROM:+0000
TZOFFSETTO:+0000
TZNAME:UTC
DTSTART:20210101T000000
END:STANDARD
END:VTIMEZONE
BEGIN:VEVENT
DTSTART;TZID=Europe/Berlin:20220407T110000
DTEND;TZID=Europe/Berlin:20220407T130000
DTSTAMP:20260419T172122
CREATED:20220125T085026Z
LAST-MODIFIED:20220323T092631Z
UID:3997-1649329200-1649336400@die-spandauer.de
SUMMARY:Netzwerktreffen Spandauer Ehrenamt
DESCRIPTION:Das ist ein regelmäßig stattfindendes Treffen\, bei dem es um Austausch\, Wissenstransfer und auch Umsetzung gemeinsamer Themen geht. Aktuell ganz vorne: die Organisation der anstehenden Ehrenamtsbörse am 21.05.22. Wahrscheinlich treffen wir uns via zoom\, bitte einfach anmelden.
URL:https://die-spandauer.de/event/netzwerktreffen-spandauer-ehrenamt/
CATEGORIES:Ehrenamtsbörse 2022,Gemeinnützige
END:VEVENT
BEGIN:VEVENT
DTSTART;TZID=UTC:20220407T160000
DTEND;TZID=UTC:20220407T180000
DTSTAMP:20260419T172122
CREATED:20220405T062429Z
LAST-MODIFIED:20220405T062429Z
UID:4518-1649347200-1649354400@die-spandauer.de
SUMMARY:Austausch und Vernetzung für Ehrenamtliche für Ukraine-Geflüchtete
DESCRIPTION:Wir bieten erneut die Möglichkeit für raschen Austausch und Vernetzung bei uns vor Ort an. Wer weiß was\, was gibt’s wo und: wie kann’s weitergehen? Kommt gerne einfach vorbei\, wir tragen wie immer unsere Infos zusammen und gehen mit euren Fragen ‚auf die Suche‘.
URL:https://die-spandauer.de/event/austausch-und-vernetzung-fuer-ehrenamtliche-fuer-ukraine-gefluechtete/
CATEGORIES:Ehrenamtliche
END:VEVENT
BEGIN:VEVENT
DTSTART;TZID=UTC:20220420T180000
DTEND;TZID=UTC:20220420T193000
DTSTAMP:20260419T172122
CREATED:20220405T063030Z
LAST-MODIFIED:20220405T063030Z
UID:4521-1650477600-1650483000@die-spandauer.de
SUMMARY:Gemeinsames Essen für Ehrenamtliche
DESCRIPTION:am 20.04. startet unser Koch-Studio. Wir kochen für Ehrenamtliche\, helal und mit Liebe und nach Voranmeldung.
URL:https://die-spandauer.de/event/gemeinsames-essen-fuer-ehrenamtliche/
CATEGORIES:Ehrenamtliche
END:VEVENT
BEGIN:VEVENT
DTSTART;TZID=UTC:20220421T160000
DTEND;TZID=UTC:20220421T180000
DTSTAMP:20260419T172122
CREATED:20220413T092057Z
LAST-MODIFIED:20220413T092057Z
UID:4541-1650556800-1650564000@die-spandauer.de
SUMMARY:Austausch und Vernetzung für Ehrenamtliche für geflüchtete Menschen aus der Ukraine
DESCRIPTION:Wir bieten erneut die Möglichkeit für raschen Austausch und Vernetzung bei uns vor Ort an. Wer weiß was\, was gibt’s wo und: wie kann’s weitergehen? Kommt gerne einfach vorbei\, wir tragen wie immer unsere Infos zusammen und gehen mit euren Fragen ‚auf die Suche‘.
URL:https://die-spandauer.de/event/austausch-und-vernetzung-fuer-ehrenamtliche-fuer-gefluechtete-menschen-aus-der-ukraine/
CATEGORIES:Ehrenamtliche
END:VEVENT
BEGIN:VEVENT
DTSTART;TZID=Europe/Berlin:20220427T150000
DTEND;TZID=Europe/Berlin:20220427T170000
DTSTAMP:20260419T172122
CREATED:20220223T103545Z
LAST-MODIFIED:20220413T091846Z
UID:4247-1651071600-1651078800@die-spandauer.de
SUMMARY:FWA goes Wilhelmstadt
DESCRIPTION:Wir beraten vor Ort zu allem rund um’s Ehrenamt: welches Engagement könnte passen\, was gibt’s alles so\, worauf soll ich im Ehrenamt achten… und hören gerne zu\, was wir an Wünschen und Ideen erfahren dürfen. Wir sind im Stadtteilladen in der Adamstr. 39  Vorab-Anmeldung wäre prima!
URL:https://die-spandauer.de/event/fwa-goes-wilhelmstadt-4/
CATEGORIES:Ehrenamtliche,Ehrenamtsbörse 2022,Gemeinnützige
END:VEVENT
END:VCALENDAR