BEGIN:VCALENDAR
VERSION:2.0
PRODID:-//Die Spandauer Freiwilligenagentur - ECPv6.15.16//NONSGML v1.0//EN
CALSCALE:GREGORIAN
METHOD:PUBLISH
X-WR-CALNAME:Die Spandauer Freiwilligenagentur
X-ORIGINAL-URL:https://die-spandauer.de
X-WR-CALDESC:Veranstaltungen für Die Spandauer Freiwilligenagentur
REFRESH-INTERVAL;VALUE=DURATION:PT1H
X-Robots-Tag:noindex
X-PUBLISHED-TTL:PT1H
BEGIN:VTIMEZONE
TZID:Europe/Berlin
BEGIN:DAYLIGHT
TZOFFSETFROM:+0100
TZOFFSETTO:+0200
TZNAME:CEST
DTSTART:20240331T010000
END:DAYLIGHT
BEGIN:STANDARD
TZOFFSETFROM:+0200
TZOFFSETTO:+0100
TZNAME:CET
DTSTART:20241027T010000
END:STANDARD
BEGIN:DAYLIGHT
TZOFFSETFROM:+0100
TZOFFSETTO:+0200
TZNAME:CEST
DTSTART:20250330T010000
END:DAYLIGHT
BEGIN:STANDARD
TZOFFSETFROM:+0200
TZOFFSETTO:+0100
TZNAME:CET
DTSTART:20251026T010000
END:STANDARD
BEGIN:DAYLIGHT
TZOFFSETFROM:+0100
TZOFFSETTO:+0200
TZNAME:CEST
DTSTART:20260329T010000
END:DAYLIGHT
BEGIN:STANDARD
TZOFFSETFROM:+0200
TZOFFSETTO:+0100
TZNAME:CET
DTSTART:20261025T010000
END:STANDARD
END:VTIMEZONE
BEGIN:VEVENT
DTSTART;TZID=Europe/Berlin:20250318T170000
DTEND;TZID=Europe/Berlin:20250318T190000
DTSTAMP:20260422T145628
CREATED:20231213T161338Z
LAST-MODIFIED:20250304T095105Z
UID:6096-1742317200-1742324400@die-spandauer.de
SUMMARY:(AUSGEBUCHT) Engagierte Frauen im Spotlight: Erfahrungen teilen\, Netzwerke stärken
DESCRIPTION:Ein gemütlicher Abend mit Kaffee\, Kuchen und inspirierenden Gesprächen für engagierte Frauen! Die Gelegenheit sich zu vernetzen und über Herausforderungen und Erfolge im Ehrenamt zu sprechen. Ob langjährig engagiert oder neu dabei – jede Perspektive ist willkommen! \n  \nZum kompletten Programm geht es hier https://www.berlin.de/ba-spandau/aktuelles/programm-spandauer-aktionsmaerz-2025-1519159.php \nZur Pressemitteilung zum Spandauer Aktionsmärz 2025 geht es hier https://www.berlin.de/ba-spandau/aktuelles/pressemitteilungen/2025/pressemitteilung.1532590.php \nZur Website (inkl. Archiv) geht es hier https://www.berlin.de/ba-spandau/aktuelles/spandauer-aktionsmaerz-1505954.php \n  \n 
URL:https://die-spandauer.de/event/engagierte-frauen-im-spotlight-erfahrungen-teilen-netzwerke-staerken/
LOCATION:Die Spandauer Freiwilligenagentur\, Carl-Schurz-Str. 53\, Berlin\, 13597\, Deutschland
CATEGORIES:Ehrenamtliche
END:VEVENT
BEGIN:VEVENT
DTSTART;TZID=Europe/Berlin:20250320T150000
DTEND;TZID=Europe/Berlin:20250320T180000
DTSTAMP:20260422T145628
CREATED:20240215T084101Z
LAST-MODIFIED:20250320T093433Z
UID:6412-1742482800-1742493600@die-spandauer.de
SUMMARY:(AUSGEBUCHT) Kostenlose Workshopreihe: Projektmanagement in Migrantenorganisationen - Modul I "Einführung in das Projektmanagement"
DESCRIPTION: Wann? 20. März\, 15:00-18:00 Uhr\n Wo? Spandauer Freiwilligenagentur\, Carl-Schurz-Str. 53\, 13597 Berlin\n Für wen? Lokale Initiativen und Organisationen von Menschen mit Migrationsgeschichte in Spandau (MO´s) \n Was erwartet dich? Ein kostenloser Workshop\, der Projektmanagement und öffentliche Projektförderung einfach erklärt. \n Inhalt Modul I:  \n\nDie Finanzierung des Vereins\nWas ist ein Projekt?\nGrundlagen der Projektförderung\nTypen der Projektförderung\nPlan\, Konzept und Ablauf (Projektphasen) eines Projekts\nProjektantrag\nVorstellung des Förderprogramms für MO des Bezirksamts Spandau\n\nweitere Module mit separater Anmeldung: \n\nModul II: Projektantragsmanagement für MO & Fördertöpfe und –programme (27.03.2025\, 15:00-18:00 Uhr)\nModul III: Projektmanagement in MO: Wie funktioniert ein Projekt? Projektdurchführung und lfd. Dokumentation (03.04.2025\, 15:00-18:00 Uhr)\nModul IV: Projektmanagement in MO: Verwendungsnachweis und Abschlussbericht (10.04.2025\, 15:00-18:00 Uhr)\n\n  \n Referenten: Holger Förster (Leitung VIA Servicestelle für MO\, IKMO) und Fuat Şengül (VIA Referent) \n Workshops bauen aufeinander auf: Wir empfehlen deshalb an allen Tagen Zeit zu nehmen. \n Jetzt anmelden! Die Plätze sind begrenzt \n  \nGemeinsam machen wir Projektmanagement verständlich und erfolgreich! 
URL:https://die-spandauer.de/event/kostenlose-workshopreihe-projektmanagement-fuer-mos-modul-i-einfuehrung/
LOCATION:Die Spandauer Freiwilligenagentur\, Carl-Schurz-Str. 53\, Berlin\, 13597\, Deutschland
CATEGORIES:Gemeinnützige
END:VEVENT
BEGIN:VEVENT
DTSTART;TZID=Europe/Berlin:20250325T150000
DTEND;TZID=Europe/Berlin:20250325T163000
DTSTAMP:20260422T145628
CREATED:20241119T095743Z
LAST-MODIFIED:20250129T161629Z
UID:6890-1742914800-1742920200@die-spandauer.de
SUMMARY:Netzwerktreffen Spandauer Ehrenamt
DESCRIPTION:Wir treffen uns alle zwei Monate um uns über das Spandauer Ehrenamt auszutauschen\, gemeinsame Veranstaltungen und Projekte zu planen. \nWenn du Teil einer gemeinnützigen Organisation oder Initiative bist\, haupt- oder ehrenamtlich\, bist du in dieser Runde richtig. \nDie Veranstaltung findet bei uns in der Freiwilligenagentur statt. Ihr könnt euch aber auch gerne Online dazu schalten. Den Zoom Link teilen wir immer kurz vor den Meetings zusammen mit der Agenda. \nWir freuen uns auf den Austausch mit euch!
URL:https://die-spandauer.de/event/nertzwerk-spandauer-ehrenamt/
LOCATION:Die Spandauer Freiwilligenagentur\, Carl-Schurz-Str. 53\, Berlin\, 13597\, Deutschland
CATEGORIES:Gemeinnützige
END:VEVENT
BEGIN:VEVENT
DTSTART;TZID=Europe/Berlin:20250327T150000
DTEND;TZID=Europe/Berlin:20250327T180000
DTSTAMP:20260422T145628
CREATED:20240215T085007Z
LAST-MODIFIED:20250320T093417Z
UID:6415-1743087600-1743098400@die-spandauer.de
SUMMARY:(AUSGEBUCHT) Kostenlose Workshopreihe: Projektmanagement in Migrantenorganisationen - Modul II "Projektantragsmanagement für MO & Fördertöpfe und –programme"
DESCRIPTION: Wann? 27. März\, 15:00-18:00 Uhr\n Wo? Spandauer Freiwilligenagentur\, Carl-Schurz-Str. 53\, 13597 Berlin\n Für wen? Lokale Initiativen und Organisationen von Menschen mit Migrationsgeschichte in Spandau (MO´s) \n Was erwartet dich? Ein kostenloser Workshop\, der Projektmanagement und öffentliche Projektförderung einfach erklärt. \n Inhalt Modul II: \n\nGrundlagen der Projektförderung aus öffentlicher Hand\nProgramm-Ausschreibungen\, Interessenbekundungsverfahren\, Bewilligungs- und Zuwendungsverfahren\nDie Dokumente des Spandauer Förderprogramms für MO\nKostenermittlung (Personal\, Honorare\, Ehrenamtliche\, Mieten usw.)\nVorstellung einiger Förderverfahren und Fördertöpfe und –programme (àFörderdatenbank der VIA-Serviceakademie)\n\nweitere Module mit separater Anmeldung: \n\nModul I: Einführung in das Projektmanagement (20.03.2025\, 15:00-18:00 Uhr)\nModul III: Projektmanagement in MO: Wie funktioniert ein Projekt? Projektdurchführung und lfd. Dokumentation (03.04.2025\, 15:00-18:00 Uhr)\nModul IV: Projektmanagement in MO: Verwendungsnachweis und Abschlussbericht (10.04.2024\, 15:00-18:00 Uhr)\n\n  \n Referenten: Holger Förster (Leitung VIA Servicestelle für MO\, IKMO) und Fuat Şengül (VIA Referent) \n Workshops bauen aufeinander auf: Wir empfehlen deshalb an allen Tagen Zeit zu nehmen. \n Jetzt anmelden! Die Plätze sind begrenzt \n  \nGemeinsam machen wir Projektmanagement verständlich und erfolgreich! 
URL:https://die-spandauer.de/event/kostenlose-workshopreihe-projektmanagement-fuer-mos-modul-ii-projektantragsmanagement-foerderprogramme/
CATEGORIES:Gemeinnützige
END:VEVENT
END:VCALENDAR