BEGIN:VCALENDAR
VERSION:2.0
PRODID:-//Die Spandauer Freiwilligenagentur - ECPv6.15.16//NONSGML v1.0//EN
CALSCALE:GREGORIAN
METHOD:PUBLISH
X-WR-CALNAME:Die Spandauer Freiwilligenagentur
X-ORIGINAL-URL:https://die-spandauer.de
X-WR-CALDESC:Veranstaltungen für Die Spandauer Freiwilligenagentur
REFRESH-INTERVAL;VALUE=DURATION:PT1H
X-Robots-Tag:noindex
X-PUBLISHED-TTL:PT1H
BEGIN:VTIMEZONE
TZID:Europe/Berlin
BEGIN:DAYLIGHT
TZOFFSETFROM:+0100
TZOFFSETTO:+0200
TZNAME:CEST
DTSTART:20240331T010000
END:DAYLIGHT
BEGIN:STANDARD
TZOFFSETFROM:+0200
TZOFFSETTO:+0100
TZNAME:CET
DTSTART:20241027T010000
END:STANDARD
BEGIN:DAYLIGHT
TZOFFSETFROM:+0100
TZOFFSETTO:+0200
TZNAME:CEST
DTSTART:20250330T010000
END:DAYLIGHT
BEGIN:STANDARD
TZOFFSETFROM:+0200
TZOFFSETTO:+0100
TZNAME:CET
DTSTART:20251026T010000
END:STANDARD
BEGIN:DAYLIGHT
TZOFFSETFROM:+0100
TZOFFSETTO:+0200
TZNAME:CEST
DTSTART:20260329T010000
END:DAYLIGHT
BEGIN:STANDARD
TZOFFSETFROM:+0200
TZOFFSETTO:+0100
TZNAME:CET
DTSTART:20261025T010000
END:STANDARD
END:VTIMEZONE
BEGIN:VEVENT
DTSTART;TZID=Europe/Berlin:20250506T150000
DTEND;TZID=Europe/Berlin:20250506T180000
DTSTAMP:20260422T115233
CREATED:20250430T091658Z
LAST-MODIFIED:20250430T091658Z
UID:7184-1746543600-1746554400@die-spandauer.de
SUMMARY:Kostenlose Workshopreihe: Projektmanagement in Migrantenorganisationen – Modul V "Der Verein und sein Personal"
DESCRIPTION: Wann? 06. Mai\, 15:00-18:00 Uhr \n Wo? digital per Zoom\, der Link wird kurz vor der Veranstaltung per E‑Mail zugeschickt\n Für wen? Lokale Initiativen und Organisationen von Menschen mit Migrationsgeschichte in Spandau (MO´s) \n  \n Inhalt Modul V:  \nWorkshop-Reihe „Projektmanagement in Migrant*innenorganisationen (MO)“ der VIA Service-Akademie für Migrant*innenorganisationen in Kooperation mit der Spandauer Freiwilligenagentur für neue und erfahrene lokale Initiativen und Organisationen von Menschen mit Migrationsgeschichte in Spandau. Modul V beschäftigt sich mit dem Thema “Der Verein und sein Personal”. Die Veranstaltung richtet sich an neue und erfahrene Vertreter:innen von Berliner MO. Die Teilnahme ist kostenfrei. \n Referenten: Holger Förster (Leitung VIA Servicestelle für MO\, IKMO) und Fuat Şengül (VIA Referent) \n Jetzt anmelden! Die Plätze sind begrenzt \n  \nGemeinsam machen wir Projektmanagement verständlich und erfolgreich! 
URL:https://die-spandauer.de/event/kostenlose-workshopreihe-projektmanagement-in-migrantenorganisationen-modul-v-der-verein-und-sein-personal/
END:VEVENT
BEGIN:VEVENT
DTSTART;TZID=Europe/Berlin:20250510T100000
DTEND;TZID=Europe/Berlin:20250510T120000
DTSTAMP:20260422T115233
CREATED:20240422T084007Z
LAST-MODIFIED:20250509T114323Z
UID:6497-1746871200-1746878400@die-spandauer.de
SUMMARY:*fällt aus* Kostenloser VHS Workshop: "Gönn Dir mal was...!" - Wildkräuterspaziergang
DESCRIPTION:*fällt leider krankheitsbedingt aus – ein neuer Termin wird zeitnah bekannt gegeben* \nDozentin: Katja Gurkasch \n  \nWildkräuter/ -pflanzen finden und kulinarisch verwenden. \nVom Fort Hahneberg spazieren wir in die Natur und erkunden dort die Wildpflanzen. Viele sind essbar\, einige nicht. Gemeinsam schauen wir uns genau an\, wie Sie die genießbaren von ungenießbaren Pflanzen unterscheiden können. Neben Informationen zu deren Wirkung oder Inhaltsstoffen bekommen Sie Tipps\, wie Sie die Kräuter zubereiten können. Oft ist es überraschend\, wie viel Essbares am Wegesrand wächst. Sie haben Gelegenheit ein wenig zu sammeln. \n  \nBitte an wetterangepasste Bekleidung und eigene Möglichkeiten für Notizen denken\, sowie an einen Aufbewahrungsbeutel für Kräuter! \n  \nTreffpunkt: vor der Naturschutzstation Hahneberg (auf dem Parkplatz)\, Heerstr. 549\, 13593 Berlin. \n  \n  \n 
URL:https://die-spandauer.de/event/kostenloser-vhs-workshop-goenn-dir-mal-was-wildkraeuterspaziergang/
END:VEVENT
BEGIN:VEVENT
DTSTART;TZID=Europe/Berlin:20250513T160000
DTEND;TZID=Europe/Berlin:20250513T183000
DTSTAMP:20260422T115233
CREATED:20240717T093907Z
LAST-MODIFIED:20241119T100033Z
UID:6553-1747152000-1747161000@die-spandauer.de
SUMMARY:Engagement Spaziergang am 13. Mai in Gatow/Kladow 🌟
DESCRIPTION:Liebe Spandauer:innen\, \nseid ihr auf der Suche nach einem Ehrenamt und möchtet direkt gemeinnützige Organisationen kennenlernen? Dann kommt zu unserem Engagement Spaziergang am 13. Mai ab 16:00 Uhr in Gatow/Kladow!  \nIhr habt die Möglichkeit\, Organisationen aus unterschiedlichen den Bereichen zu besuchen und euch in entspannter Atmosphäre über eine Reihe von Engagement-Möglichkeiten zu informieren. \nMeldet euch jetzt an und entdeckt\, wie ihr euch in unserer Gemeinschaft einbringen könnt. Wir freuen uns auf euch! \nTreffpunkt: Ambulanter Hospizdienst Christopherus\, Buchwaldzeile 45 in 14089 Gatow. \n—– \nDie Veranstaltung wird durchgeführt von der Spandauer Freiwilligenagentur in Kooperation mit der Stadtteilkoordination Gatow/Kladow. \n 
URL:https://die-spandauer.de/event/engagement-spaziergang-am-11-september-in-gatow-kladow-%f0%9f%8c%9f/
LOCATION:Hospizdienst Christopherus\, Buchwaldzeile 45\, Berlin\, 10489
CATEGORIES:Ehrenamtliche,Gemeinnützige
END:VEVENT
BEGIN:VEVENT
DTSTART;TZID=Europe/Berlin:20250520T110000
DTEND;TZID=Europe/Berlin:20250520T123000
DTSTAMP:20260422T115233
CREATED:20241119T095825Z
LAST-MODIFIED:20250520T084409Z
UID:6892-1747738800-1747744200@die-spandauer.de
SUMMARY:Netzwerktreffen Spandauer Ehrenamt
DESCRIPTION:Wir treffen uns alle zwei Monate um uns über das Spandauer Ehrenamt auszutauschen\, gemeinsame Veranstaltungen und Projekte zu planen. \nWenn du Teil einer gemeinnützigen Organisation oder Initiative bist\, haupt- oder ehrenamtlich\, bist du in dieser Runde richtig. \nDie Veranstaltung findet dieses Mal nur analog bei uns in der Freiwilligenagentur statt. \nWir freuen uns auf den Austausch mit euch!
URL:https://die-spandauer.de/event/netzwerk-spandauer-ehrenamt-7/
LOCATION:Die Spandauer Freiwilligenagentur\, Carl-Schurz-Str. 53\, Berlin\, 13597\, Deutschland
CATEGORIES:Gemeinnützige
END:VEVENT
END:VCALENDAR